BEGIN:VCALENDAR
VERSION:2.0
PRODID:-//Valerie C. Walker - ECPv6.15.17.1//NONSGML v1.0//EN
CALSCALE:GREGORIAN
METHOD:PUBLISH
X-WR-CALNAME:Valerie C. Walker
X-ORIGINAL-URL:https://valeriewalkerfineart.com
X-WR-CALDESC:Events for Valerie C. Walker
REFRESH-INTERVAL;VALUE=DURATION:PT1H
X-Robots-Tag:noindex
X-PUBLISHED-TTL:PT1H
BEGIN:VTIMEZONE
TZID:UTC
BEGIN:STANDARD
TZOFFSETFROM:+0000
TZOFFSETTO:+0000
TZNAME:UTC
DTSTART:20160101T000000
END:STANDARD
END:VTIMEZONE
BEGIN:VEVENT
DTSTART;TZID=UTC:20190504T130000
DTEND;TZID=UTC:20190504T160000
DTSTAMP:20260423T152204
CREATED:20190429T185046Z
LAST-MODIFIED:20190429T185109Z
UID:301-1556974800-1556985600@valeriewalkerfineart.com
SUMMARY:Art with Vison Show
DESCRIPTION:Please join us at The Woodlands United Methodist Church for the 10th anniversary of the Art with Vision Group in Aldersgate Hall. \nthere will be over 30 original pieces and I will have 3 showing. All proceeds from sold art will be donated to the caring ministry.
URL:https://valeriewalkerfineart.com/upcoming-events/art-with-vison-show/
LOCATION:The Woodlands United Method Church\, 2200 Lake Woodlands Drive\, The Woodlands\, TX\, 77380\, United States
END:VEVENT
BEGIN:VEVENT
DTSTART;TZID=UTC:20180601T080000
DTEND;TZID=UTC:20180624T170000
DTSTAMP:20260423T152204
CREATED:20180605T143412Z
LAST-MODIFIED:20180605T143441Z
UID:273-1527840000-1529859600@valeriewalkerfineart.com
SUMMARY:The Woodlands United Methodist Church
DESCRIPTION:“The Father’s Time” and “Wedding at Cana” will both be showing at the Loft Building at The Woodlands United Methodist Church. Any pieces sold will fund the caring ministry. \n 
URL:https://valeriewalkerfineart.com/upcoming-events/the-woodlands-united-methodist-church/
LOCATION:The Woodlands United Method Church\, 2200 Lake Woodlands Drive\, The Woodlands\, TX\, 77380\, United States
END:VEVENT
BEGIN:VEVENT
DTSTART;TZID=UTC:20180519T120000
DTEND;TZID=UTC:20180519T160000
DTSTAMP:20260423T152204
CREATED:20180501T013336Z
LAST-MODIFIED:20180501T013336Z
UID:263-1526731200-1526745600@valeriewalkerfineart.com
SUMMARY:Woodlands Art League Spring Show
DESCRIPTION:Armor of God\, Wedding at Cana and The Father’s Time will be showing
URL:https://valeriewalkerfineart.com/upcoming-events/woodlands-art-league-spring-show/
LOCATION:The Woodlands Community Center\, 2235 Lake Robbins Drive\, Spring\, TX\, 77380\, United States
END:VEVENT
BEGIN:VEVENT
DTSTART;TZID=UTC:20180325T160000
DTEND;TZID=UTC:20180325T190000
DTSTAMP:20260423T152204
CREATED:20180316T184127Z
LAST-MODIFIED:20180316T184127Z
UID:257-1521993600-1522004400@valeriewalkerfineart.com
SUMMARY:AAR Art and Wine Event
DESCRIPTION:I have been selected to show at Abandon Animal Rescue Wine and Art Fundraiser March 25th evening at Balmorhea Venue.\nI will be showing 13 pieces for sale.\nRead more about the event and ticket options at: https://www.aartexas.org/events/winetasting/
URL:https://valeriewalkerfineart.com/upcoming-events/aar-art-and-wine-event/
LOCATION:Balmorhea\, 33400 Wright Road\, Magnolia\, TX\, 77355\, United States
END:VEVENT
BEGIN:VEVENT
DTSTART;TZID=UTC:20180224T190000
DTEND;TZID=UTC:20180224T210000
DTSTAMP:20260423T152204
CREATED:20180221T220640Z
LAST-MODIFIED:20180221T225136Z
UID:245-1519498800-1519506000@valeriewalkerfineart.com
SUMMARY:4 Pieces For Sale for Charity at Art and Wine Woodlands Event
DESCRIPTION:Artwork will be sold to benefit Peace and Justice Network of Montgomery County.  Funds will go towards Fill the Gap\, a project to assist those needing small amounts of money for apartment and utility payments\, and other one time needs. Interfaith of the Woodlands distributes the funds to applicants. PJN is a registered non-profit and is also a member of the Homeless Coalition of Montgomery County. ($10 entry fee) \n\nMozambique\n18″ x 22″ (with frame)\nAcrylic on Canvas\nRePete\n14.5″ x 18″ (with frame)\nOil on Canvas\nArmor of God\n11″ x 14″ (with frame)\nOil on Linen\nTexas Trio\n12″ x 12″ (with frame)\nOil on Canvas
URL:https://valeriewalkerfineart.com/upcoming-events/4-pieces-sale-charity-art-wine-woodlands-event/
LOCATION:Lord of Life Church\, 3801 S Panther Creek Dr\, The Woodlands\,\, TX\, 77381
END:VEVENT
BEGIN:VEVENT
DTSTART;TZID=UTC:20180121T150000
DTEND;TZID=UTC:20180331T170000
DTSTAMP:20260423T152204
CREATED:20180122T023708Z
LAST-MODIFIED:20180122T023939Z
UID:239-1516546800-1522515600@valeriewalkerfineart.com
SUMMARY:Showing "Armor of God" and "Fruit and Pitcher"
DESCRIPTION:Showing/for sale “Armor of God” \n \nand “Fruit and Pitcher”
URL:https://valeriewalkerfineart.com/upcoming-events/showing-armor-god-fruit-pitcher/
LOCATION:The Woodlands Community Center\, 2235 Lake Robbins Drive\, Spring\, TX\, 77380\, United States
END:VEVENT
BEGIN:VEVENT
DTSTART;TZID=UTC:20170930T180000
DTEND;TZID=UTC:20170930T210000
DTSTAMP:20260423T152204
CREATED:20170925T144305Z
LAST-MODIFIED:20170926T150239Z
UID:195-1506794400-1506805200@valeriewalkerfineart.com
SUMMARY:Art Heals Auction (for Hurricane Harvey Relief Fund)
DESCRIPTION:Valerie Walker’s piece titled “Faith\, Hope and Love” with these aspects highlighted in red in each sketch is for donation for Hurricane Relief.  \nThe top sketch “Faith” captures a home that had been flooded with all of the ruined contents on the outside. The owners chose to display their intact Christmas décor J-O-Y for all to see in the midst of the destruction.  \nThe middle sketch “Hope” displays the mantra “strong” in the overpass fence with flooded cars below to rally fellow Houstonians for the future rebuild.  \nThe  last sketch “Love” is my friend\, Paula Crockett\, helping gut a coworkers house. \n 
URL:https://valeriewalkerfineart.com/upcoming-events/art-heals-auction-hurricane-harvey-relief-fund/
LOCATION:Crush Wine Bar\, Waterway Ave #200\, The Woodlands\, TX\, 77380\, United States
END:VEVENT
BEGIN:VEVENT
DTSTART;TZID=UTC:20170927T170000
DTEND;TZID=UTC:20170927T190000
DTSTAMP:20260423T152204
CREATED:20170925T141821Z
LAST-MODIFIED:20170926T150334Z
UID:187-1506531600-1506538800@valeriewalkerfineart.com
SUMMARY:Art Heals Auction Preview (for Hurricane Harvey Relief)
DESCRIPTION:Valerie Walker’s piece titled “Faith\, Hope and Love” with these aspects highlighted in red in each sketch is for donation for Hurricane Relief.  \nThe top sketch “Faith” captures a home that had been flooded with all of the ruined contents on the outside. The owners chose to display their intact Christmas décor J-O-Y for all to see in the midst of the destruction.  \nThe middle sketch “Hope” displays the mantra “strong” in the overpass fence with flooded cars below to rally fellow Houstonians for the future rebuild.  \nThe  last sketch “Love” is my friend\, Paula Crockett\, helping gut a coworkers house.  \n 
URL:https://valeriewalkerfineart.com/upcoming-events/art-heals-auction-preview-for-hurricane-harvey-relief/
LOCATION:Crush Wine Bar\, Waterway Ave #200\, The Woodlands\, TX\, 77380\, United States
END:VEVENT
BEGIN:VEVENT
DTSTART;VALUE=DATE:20170824
DTEND;VALUE=DATE:20170904
DTSTAMP:20260423T152204
CREATED:20170824T021329Z
LAST-MODIFIED:20170926T150747Z
UID:108-1503532800-1504483199@valeriewalkerfineart.com
SUMMARY:The Woodlands United Methodist Church
DESCRIPTION:Currently Displaying Until September 3rd: Armor of God
URL:https://valeriewalkerfineart.com/upcoming-events/woodlands-united-methodist-church/
LOCATION:The Woodlands United Method Church\, 2200 Lake Woodlands Drive\, The Woodlands\, TX\, 77380\, United States
END:VEVENT
BEGIN:VEVENT
DTSTART;VALUE=DATE:20170824
DTEND;VALUE=DATE:20171001
DTSTAMP:20260423T152204
CREATED:20170824T021115Z
LAST-MODIFIED:20170926T150701Z
UID:104-1503532800-1506815999@valeriewalkerfineart.com
SUMMARY:The Woodlands Community Center
DESCRIPTION:Currently Displaying Through September: Columbian Breeze\, Brighter Day\, Texas Trio and Ghana Wisdom \n  \n 
URL:https://valeriewalkerfineart.com/upcoming-events/woodlands-community-center/
LOCATION:The Woodlands Community Center\, 2235 Lake Robbins Drive\, Spring\, TX\, 77380\, United States
END:VEVENT
END:VCALENDAR